BEGIN:VCALENDAR
METHOD:PUBLISH
PRODID:-//github.com/rianjs/ical.net//NONSGML ical.net 4.0//EN
VERSION:2.0
X-WR-CALNAME:Sunset Elementary PTA
BEGIN:VEVENT
CREATED:20260115T142150
DTEND;VALUE=DATE:20260418
DTSTAMP:20260422T214347Z
DTSTART;VALUE=DATE:20260413
LAST-MODIFIED:20260115T142150
SEQUENCE:0
STATUS:CONFIRMED
SUMMARY:Spring Break - No School
TRANSP:TRANSPARENT
UID:145115@ourschoolpages.com
END:VEVENT
END:VCALENDAR
